BEGIN:VCALENDAR
VERSION:2.0
PRODID:-//ITB Partners - Management Consultants - ECPv6.15.20//NONSGML v1.0//EN
CALSCALE:GREGORIAN
METHOD:PUBLISH
X-ORIGINAL-URL:https://www.itbpartners.com
X-WR-CALDESC:Events for ITB Partners - Management Consultants
REFRESH-INTERVAL;VALUE=DURATION:PT1H
X-Robots-Tag:noindex
X-PUBLISHED-TTL:PT1H
BEGIN:VTIMEZONE
TZID:America/New_York
BEGIN:DAYLIGHT
TZOFFSETFROM:-0500
TZOFFSETTO:-0400
TZNAME:EDT
DTSTART:20200308T070000
END:DAYLIGHT
BEGIN:STANDARD
TZOFFSETFROM:-0400
TZOFFSETTO:-0500
TZNAME:EST
DTSTART:20201101T060000
END:STANDARD
BEGIN:DAYLIGHT
TZOFFSETFROM:-0500
TZOFFSETTO:-0400
TZNAME:EDT
DTSTART:20210314T070000
END:DAYLIGHT
BEGIN:STANDARD
TZOFFSETFROM:-0400
TZOFFSETTO:-0500
TZNAME:EST
DTSTART:20211107T060000
END:STANDARD
BEGIN:DAYLIGHT
TZOFFSETFROM:-0500
TZOFFSETTO:-0400
TZNAME:EDT
DTSTART:20220313T070000
END:DAYLIGHT
BEGIN:STANDARD
TZOFFSETFROM:-0400
TZOFFSETTO:-0500
TZNAME:EST
DTSTART:20221106T060000
END:STANDARD
END:VTIMEZONE
BEGIN:VEVENT
DTSTART;TZID=America/New_York:20210127T120000
DTEND;TZID=America/New_York:20210127T123000
DTSTAMP:20260423T185901
CREATED:20210120T180151Z
LAST-MODIFIED:20210120T191554Z
UID:5080-1611748800-1611750600@www.itbpartners.com
SUMMARY:20 Minute Online Preview of a Franchise Serving a High Demand Essential Need
DESCRIPTION:I get excited when I see a franchise uniquely servicing a high demand\, essential need. \nWednesday\, January 27th at 12:00 pm ET – Join me for a 20 minute online preview of what I believe is one of the best business-to-business franchises to consider launching in 2021. Click here to sign-up. \nWhat’s so compelling about this franchise opportunity? \n\n\n\n20 year history of success (through 2 recessions and COVID-19).\nMeticulously refined model resulting in 90% customer retention year over year.\nOrganic expansion through synergistic profit centers; increasing lifetime customer value.\nGrowing catalog of commercial national accounts.\nRapid startup and expansion.\nMonday – Friday bankers hours; no night/weekend/holiday emergencies.\nLow investment; low ongoing overhead.\nSBA loan approved.\nCan be owner-operator or oversee a small team.\nDown to earth company culture with a focus on results\, family\, kicking butt and FUN.\nOwn a huge service territory for modest franchise fees.\nBlue ocean opportunity in a $100B highly-fragmented industry; grow an empire if you wish!\nCurious to learn more but cannot make the live event? Sign-up anyway to receive the presentation recording.\n\n\n\nHere’s what else is coming up…. \nBuilding Wealth through Franchise Ownership\n(During and Beyond COVID-19)\nHosted by SCORE ($20)\nFriday\, February 5th\n10:00 am ET (60 minutes + Q&A)\nLearn more and sign-up \nBest Senior Home Healthcae Franchise for 2021 \nHosted by Leslie Kuban\, FranNet (no cost)\nWednesday\, February 17th\n12:00 pm ET (20 minutes)\nLearn more and sign-up \nWant to chat with me now? Please use my scheduling link to choose a time to take my call: https://calendly.com/leslie_kuban\nTo your success\,\nLeslie\n\n\n\n\n\n\n\nLeslie KubanFranchise Consultant | Franchise Owner | Best Selling Author | Speaker\nLeslie Kuban\, CFE\nMarket President\nFranNet\nMobile: 404.236.9115\nOffice: 770.579.3726\n\n\n\n\n\n\n\nShare this:\n				Share on X (Opens in new window)\n				X\n			\n				Share on Facebook (Opens in new window)\n				Facebook\n			\n				Share on Tumblr (Opens in new window)\n				Tumblr\n			\n				Share on Pinterest (Opens in new window)\n				Pinterest\n			\n				Share on LinkedIn (Opens in new window)\n				LinkedIn\n			\n				Share on WhatsApp (Opens in new window)\n				WhatsApp\n			\n				Print (Opens in new window)\n				Print\n			\n				Share on Reddit (Opens in new window)\n				Reddit
URL:https://www.itbpartners.com/event/20-minute-online-preview-of-a-franchise-serving-a-high-demand-essential-need20-minute-online-preview-of-what-i-believe-is-one-of-the-best-business-to-business-franchises-to-consider/
CATEGORIES:New Business Opportunity
END:VEVENT
END:VCALENDAR